BEGIN:VCALENDAR
VERSION:2.0
PRODID:-//DIE BEGINEN - ECPv6.15.20//NONSGML v1.0//EN
CALSCALE:GREGORIAN
METHOD:PUBLISH
X-ORIGINAL-URL:https://www.die-beginen-rostock.de
X-WR-CALDESC:Veranstaltungen für DIE BEGINEN
REFRESH-INTERVAL;VALUE=DURATION:PT1H
X-Robots-Tag:noindex
X-PUBLISHED-TTL:PT1H
BEGIN:VTIMEZONE
TZID:Europe/Berlin
BEGIN:DAYLIGHT
TZOFFSETFROM:+0100
TZOFFSETTO:+0200
TZNAME:CEST
DTSTART:20230326T010000
END:DAYLIGHT
BEGIN:STANDARD
TZOFFSETFROM:+0200
TZOFFSETTO:+0100
TZNAME:CET
DTSTART:20231029T010000
END:STANDARD
BEGIN:DAYLIGHT
TZOFFSETFROM:+0100
TZOFFSETTO:+0200
TZNAME:CEST
DTSTART:20240331T010000
END:DAYLIGHT
BEGIN:STANDARD
TZOFFSETFROM:+0200
TZOFFSETTO:+0100
TZNAME:CET
DTSTART:20241027T010000
END:STANDARD
BEGIN:DAYLIGHT
TZOFFSETFROM:+0100
TZOFFSETTO:+0200
TZNAME:CEST
DTSTART:20250330T010000
END:DAYLIGHT
BEGIN:STANDARD
TZOFFSETFROM:+0200
TZOFFSETTO:+0100
TZNAME:CET
DTSTART:20251026T010000
END:STANDARD
BEGIN:DAYLIGHT
TZOFFSETFROM:+0100
TZOFFSETTO:+0200
TZNAME:CEST
DTSTART:20260329T010000
END:DAYLIGHT
BEGIN:STANDARD
TZOFFSETFROM:+0200
TZOFFSETTO:+0100
TZNAME:CET
DTSTART:20261025T010000
END:STANDARD
END:VTIMEZONE
BEGIN:VEVENT
DTSTART;TZID=Europe/Berlin:20241007T170000
DTEND;TZID=Europe/Berlin:20250531T200000
DTSTAMP:20260424T164527
CREATED:20250401T113011Z
LAST-MODIFIED:20250515T115549Z
UID:11551-1728320400-1748721600@www.die-beginen-rostock.de
SUMMARY:Projekt HEUTE SPIELEN WIR MACHT
DESCRIPTION:
URL:https://www.die-beginen-rostock.de/event/projekt-heute-spielen-wir-macht/
LOCATION:HTM  Rostock\, Beim St.-Katharinenstift 8\, Rostock\, 18055
ATTACH;FMTTYPE=image/jpeg:https://www.die-beginen-rostock.de/wp-content/uploads/2024/10/IMG_4550.jpg
END:VEVENT
BEGIN:VEVENT
DTSTART;TZID=Europe/Berlin:20250312T190000
DTEND;TZID=Europe/Berlin:20250521T210000
DTSTAMP:20260424T164527
CREATED:20250401T112155Z
LAST-MODIFIED:20250401T112155Z
UID:11544-1741806000-1747861200@www.die-beginen-rostock.de
SUMMARY:Workshop Endlich genug.II
DESCRIPTION:
URL:https://www.die-beginen-rostock.de/event/workshop-endlich-genug-ii/
LOCATION:Online via Zoom
END:VEVENT
BEGIN:VEVENT
DTSTART;TZID=Europe/Berlin:20250410T190000
DTEND;TZID=Europe/Berlin:20250529T210000
DTSTAMP:20260424T164527
CREATED:20250401T091046Z
LAST-MODIFIED:20250401T091046Z
UID:11529-1744311600-1748552400@www.die-beginen-rostock.de
SUMMARY:Ausstellung Aktmalerei
DESCRIPTION:
URL:https://www.die-beginen-rostock.de/event/ausstellung-aktmalerei/
LOCATION:Beginen e.V.\, Heiligengeisthof 3\, Rostock\, 18055\, Germany
ORGANIZER;CN="Beginen e.V.":MAILTO:info@die-beginen-rostock.de
END:VEVENT
END:VCALENDAR